BEGIN:VCALENDAR
VERSION:2.0
PRODID:-//Sarasota Manatee Originals - ECPv6.15.20//NONSGML v1.0//EN
CALSCALE:GREGORIAN
METHOD:PUBLISH
X-ORIGINAL-URL:https://eatlikealocal.com
X-WR-CALDESC:Events for Sarasota Manatee Originals
REFRESH-INTERVAL;VALUE=DURATION:PT1H
X-Robots-Tag:noindex
X-PUBLISHED-TTL:PT1H
BEGIN:VTIMEZONE
TZID:America/New_York
BEGIN:DAYLIGHT
TZOFFSETFROM:-0500
TZOFFSETTO:-0400
TZNAME:EDT
DTSTART:20240310T070000
END:DAYLIGHT
BEGIN:STANDARD
TZOFFSETFROM:-0400
TZOFFSETTO:-0500
TZNAME:EST
DTSTART:20241103T060000
END:STANDARD
BEGIN:DAYLIGHT
TZOFFSETFROM:-0500
TZOFFSETTO:-0400
TZNAME:EDT
DTSTART:20250309T070000
END:DAYLIGHT
BEGIN:STANDARD
TZOFFSETFROM:-0400
TZOFFSETTO:-0500
TZNAME:EST
DTSTART:20251102T060000
END:STANDARD
BEGIN:DAYLIGHT
TZOFFSETFROM:-0500
TZOFFSETTO:-0400
TZNAME:EDT
DTSTART:20260308T070000
END:DAYLIGHT
BEGIN:STANDARD
TZOFFSETFROM:-0400
TZOFFSETTO:-0500
TZNAME:EST
DTSTART:20261101T060000
END:STANDARD
BEGIN:DAYLIGHT
TZOFFSETFROM:-0500
TZOFFSETTO:-0400
TZNAME:EDT
DTSTART:20270314T070000
END:DAYLIGHT
BEGIN:STANDARD
TZOFFSETFROM:-0400
TZOFFSETTO:-0500
TZNAME:EST
DTSTART:20271107T060000
END:STANDARD
END:VTIMEZONE
BEGIN:VEVENT
DTSTART;VALUE=DATE:20260317
DTEND;VALUE=DATE:20260318
DTSTAMP:20260424T121042
CREATED:20260309T123930Z
LAST-MODIFIED:20260309T123930Z
UID:10000134-1773705600-1773791999@eatlikealocal.com
SUMMARY:Pop's Sunset Grill / St. Patrick's Day
DESCRIPTION:[vc_row type=”in_container” full_screen_row_position=”middle” column_margin=”default” column_direction=”default” column_direction_tablet=”default” column_direction_phone=”default” scene_position=”center” text_color=”dark” text_align=”left” row_border_radius=”none” row_border_radius_applies=”bg” row_position_desktop=”default” row_position_tablet=”inherit” row_position_phone=”inherit” overflow=”visible” overlay_strength=”0.3″ gradient_direction=”left_to_right” shape_divider_position=”bottom” bg_image_animation=”none”][vc_column column_padding=”no-extra-padding” column_padding_tablet=”inherit” column_padding_phone=”inherit” column_padding_position=”all” flex_gap_desktop=”10px” column_element_direction_desktop=”default” column_element_spacing=”default” desktop_text_alignment=”default” tablet_text_alignment=”default” phone_text_alignment=”default” background_color_opacity=”1″ background_hover_color_opacity=”1″ column_backdrop_filter=”none” column_shadow=”none” column_border_radius=”none” column_link_target=”_self” column_position=”default” gradient_direction=”left_to_right” overlay_strength=”0.3″ width=”1/1″ tablet_width_inherit=”default” animation_type=”default” bg_image_animation=”none” border_type=”simple” column_border_width=”none” column_border_style=”solid”][vc_column_text css=”” text_direction=”default”]\nSt. Patrick’s Day at Pop’s Sunset Grill\nGet your green on and celebrate St. Patrick’s Day waterfront style at Pop’s Sunset Grill! We’re pouring the good stuff all day long with Jameson drink features\, ice-cold green beer\, and Irish-inspired cocktail specials that’ll have you saying Sláinte!\n\nSt. Patrick’s Day Food Specials\nChef-inspired Irish favorites with a Pop’s twist\, for breakfast\, lunch and dinner! Think hearty\, festive\, and perfect with a pint.\n\nLive Music All Day\nBecause no Irish celebration is complete without great tunes\, dancing\, and a little mischief.\n\nGrab your crew\, wear your green\, and join us for sunshine\, shamrocks\, and waterfront vibes. Whether you’re here for brunch\, lunch\, or dinner…the party lasts all day!\n[/vc_column_text][/vc_column][/vc_row]
URL:https://eatlikealocal.com/event/pops-sunset-grill-st-patricks-day/
LOCATION:Pop’s Sunset Grill\, 112 Circuit Road\, Nokomis\, FL\, 34275\, United States
CATEGORIES:Holiday Event
ATTACH;FMTTYPE=image/jpeg:https://eatlikealocal.com/wp-content/uploads/2026/03/pops-st-pat.jpg
END:VEVENT
BEGIN:VEVENT
DTSTART;TZID=America/New_York:20260212T180000
DTEND;TZID=America/New_York:20260212T210000
DTSTAMP:20260424T121042
CREATED:20260205T201957Z
LAST-MODIFIED:20260205T202052Z
UID:10000076-1770919200-1770930000@eatlikealocal.com
SUMMARY:Pop's Sunset Grill / Galentines Day Wine Dinner
DESCRIPTION:[vc_row type=”in_container” full_screen_row_position=”middle” column_margin=”default” column_direction=”default” column_direction_tablet=”default” column_direction_phone=”default” scene_position=”center” text_color=”dark” text_align=”left” row_border_radius=”none” row_border_radius_applies=”bg” row_position_desktop=”default” row_position_tablet=”inherit” row_position_phone=”inherit” overflow=”visible” overlay_strength=”0.3″ gradient_direction=”left_to_right” shape_divider_position=”bottom” bg_image_animation=”none”][vc_column column_padding=”no-extra-padding” column_padding_tablet=”inherit” column_padding_phone=”inherit” column_padding_position=”all” flex_gap_desktop=”10px” column_element_direction_desktop=”default” column_element_spacing=”default” desktop_text_alignment=”default” tablet_text_alignment=”default” phone_text_alignment=”default” background_color_opacity=”1″ background_hover_color_opacity=”1″ column_backdrop_filter=”none” column_shadow=”none” column_border_radius=”none” column_link_target=”_self” column_position=”default” gradient_direction=”left_to_right” overlay_strength=”0.3″ width=”1/1″ tablet_width_inherit=”default” animation_type=”default” bg_image_animation=”none” border_type=”simple” column_border_width=”none” column_border_style=”solid”][vc_column_text css=”” text_direction=”default”]\nRound up your Gals!\nJoin us for a dazzling Galentine’s Day celebration at Pop’s Sunset Grill! \n\nThursday\, February 12th\n5:30 – 9p\nTickets are $95++ (final price will include 7% tax and 20% gratuity)\n\nEmbrace your inner Rhinestone Cowgirl as we take you on a culinary journey paired with exquisite wine from Frog’s Leap Winery. \nGather your wine-loving gals and pals for an unforgettable evening in our enchanting courtyard\, sparkling with rhinestone and western flair. Saddle up for an unforgettable evening featuring a 4-course menu\, perfectly paired with Frog’s Leap Wines. Each course paired to showcase the unique character and vibrant flavors of this dependably complex and elegant wine. \n \nAn evening filled with laughter\, camaraderie and unforgettable moments\nPunctuate the evening’s vibes with live music by local country artist\, Jason Brownie! \nTickets are $95++ (final price will include 7% tax and 20% gratuity) This will be a special evening with limited seating available. Reserve your place quickly as we typically sell out. \nGET YOUR TICKETS HERE!\n[/vc_column_text][/vc_column][/vc_row]
URL:https://eatlikealocal.com/event/pops-sunset-grill-galentines-day-wine-dinner/
LOCATION:Pop’s Sunset Grill\, 112 Circuit Road\, Nokomis\, FL\, 34275\, United States
CATEGORIES:Dinner Event,Holiday Event,Wine Event
ATTACH;FMTTYPE=image/png:https://eatlikealocal.com/wp-content/uploads/2026/02/Galentines-600-x-400-px-1920-x-1080-px-2.png
END:VEVENT
BEGIN:VEVENT
DTSTART;TZID=America/New_York:20260122T173000
DTEND;TZID=America/New_York:20260122T203000
DTSTAMP:20260424T121042
CREATED:20260103T141915Z
LAST-MODIFIED:20260120T010027Z
UID:10000064-1769103000-1769113800@eatlikealocal.com
SUMMARY:Forks & Corks Winemaker Dinner | Pop’s Sunset Grill & Hamilton Russell Oregon + Bjornson
DESCRIPTION:[vc_row type=”in_container” full_screen_row_position=”middle” column_margin=”default” column_direction=”default” column_direction_tablet=”default” column_direction_phone=”default” scene_position=”center” text_color=”dark” text_align=”left” row_border_radius=”none” row_border_radius_applies=”bg” row_position_desktop=”default” row_position_tablet=”inherit” row_position_phone=”inherit” overflow=”visible” overlay_strength=”0.3″ gradient_direction=”left_to_right” shape_divider_position=”bottom” bg_image_animation=”none”][vc_column column_padding=”no-extra-padding” column_padding_tablet=”inherit” column_padding_phone=”inherit” column_padding_position=”all” flex_gap_desktop=”10px” column_element_direction_desktop=”default” column_element_spacing=”default” desktop_text_alignment=”default” tablet_text_alignment=”default” phone_text_alignment=”default” background_color_opacity=”1″ background_hover_color_opacity=”1″ column_backdrop_filter=”none” column_shadow=”none” column_border_radius=”none” column_link_target=”_self” column_position=”default” gradient_direction=”left_to_right” overlay_strength=”0.3″ width=”1/1″ tablet_width_inherit=”default” animation_type=”default” bg_image_animation=”none” border_type=”simple” column_border_width=”none” column_border_style=”solid”][vc_column_text css=”” text_direction=”default”]\nTHIS EVENT IS SOLD OUT\nJoin us for an unforgettable evening as we celebrate the exquisite flavors of the Willamette Valley! Join us on Thursday\, January 22 at Pop’s Sunset Grill for a spectacular five-course wine dinner featuring exceptional selections from two renowned wineries in this celebrated Oregon region. \nIndulge in a culinary experience crafted by Chef Marcos Vasquez and his talented team\, perfectly paired with wines that showcase the unique character and terroir of the Willamette Valley. You’ll have the opportunity to savor each course while enjoying enlightening discussions led by special guests from both wineries. Hear firsthand about their winemaking philosophies\, the stories behind their exquisite vintages\, and what makes their wines truly exceptional. \nAs part of Forks & Corks 2026\, this will sell out! Don’t miss this unique chance to immerse yourself in the world of fine wines and exceptional cuisine. Reserve your spot today and elevate your palate at this extraordinary wine dinner! Cheers! \nThursday\, January 22\, 2026 5:30p \n5 courses wine dinner $125++ / 7% tax and 20% gratuity will be added to your order upon checkout[/vc_column_text][/vc_column][/vc_row]
URL:https://eatlikealocal.com/event/forks-corks-winemaker-dinner-pops-sunset-grill-hamilton-russell-oregon-bjornson/
LOCATION:Pop’s Sunset Grill\, 112 Circuit Road\, Nokomis\, FL\, 34275\, United States
CATEGORIES:Dinner Event,Forks & Corks,Wine Event
ATTACH;FMTTYPE=image/jpeg:https://eatlikealocal.com/wp-content/uploads/2026/01/POPS-sold-out.jpg
END:VEVENT
BEGIN:VEVENT
DTSTART;TZID=America/New_York:20251231T190000
DTEND;TZID=America/New_York:20251231T190000
DTSTAMP:20260424T121042
CREATED:20251203T062127Z
LAST-MODIFIED:20251204T023924Z
UID:10000037-1767207600-1767207600@eatlikealocal.com
SUMMARY:Pop's Jungle Groove: New Year's Eve Party
DESCRIPTION:Step into the Wild: Pop’s Jungle Groove New Year’s Eve Party\nEach table will be reserved from either 7 p.m. or 8 p.m. until 12:30 a.m. \nGet ready to unleash your inner party animal at the most electrifying New Year’s Eve bash of the year!  Secure your table today for Pop’s Jungle Groove on December 31st for a night filled with vibrant beats\, exotic vibes\, and unforgettable moments as we ring in the New Year in WILD style! \nThe $125 per-seat pre-purchase amount will be applied to your table’s food\, beverage\, tax\, and 20% gratuity on New Year’s Eve. \nIndulge in our full dinner menu\, savor the Chef’s Specials created exclusively for this special night\, choose from an array of drink specials and a wide selection of bottles of champagne. As the clock ticks closer to midnight\, enjoy complimentary hors d’oeuvres from 10 p.m. to Midnight and a complimentary champagne toast at the stroke of twelve. Trust us\, you won’t want to miss the Gulf Coast’s Most Enjoyable New Year’s Eve Party! \nKeep an eye out for bottle options\, which will be offered in the follow-up after purchasing a table. \nRing in the New Year in WILD Style! \n**Your pre-purchase amount acts as a credit for your evening for food\, beverage\, 7% tax\, and 20% gratuity.  You will not receive a credit or change for a balance left unspent\, so we encourage you to indulge and enjoy the night!  If you exceed the pre-purchase amount\, you will pay the balance due plus a 25% gratuity.
URL:https://eatlikealocal.com/event/pops-jungle-groove-new-years-eve-party/
LOCATION:Pop’s Sunset Grill\, 112 Circuit Road\, Nokomis\, FL\, 34275\, United States
CATEGORIES:Holiday Event
ATTACH;FMTTYPE=image/png:https://eatlikealocal.com/wp-content/uploads/2025/12/pops-holiday.png
END:VEVENT
END:VCALENDAR