BEGIN:VCALENDAR
VERSION:2.0
PRODID:-//Sarasota Manatee Originals - ECPv6.15.20//NONSGML v1.0//EN
CALSCALE:GREGORIAN
METHOD:PUBLISH
X-WR-CALNAME:Sarasota Manatee Originals
X-ORIGINAL-URL:https://eatlikealocal.com
X-WR-CALDESC:Events for Sarasota Manatee Originals
REFRESH-INTERVAL;VALUE=DURATION:PT1H
X-Robots-Tag:noindex
X-PUBLISHED-TTL:PT1H
BEGIN:VTIMEZONE
TZID:America/New_York
BEGIN:DAYLIGHT
TZOFFSETFROM:-0500
TZOFFSETTO:-0400
TZNAME:EDT
DTSTART:20240310T070000
END:DAYLIGHT
BEGIN:STANDARD
TZOFFSETFROM:-0400
TZOFFSETTO:-0500
TZNAME:EST
DTSTART:20241103T060000
END:STANDARD
BEGIN:DAYLIGHT
TZOFFSETFROM:-0500
TZOFFSETTO:-0400
TZNAME:EDT
DTSTART:20250309T070000
END:DAYLIGHT
BEGIN:STANDARD
TZOFFSETFROM:-0400
TZOFFSETTO:-0500
TZNAME:EST
DTSTART:20251102T060000
END:STANDARD
BEGIN:DAYLIGHT
TZOFFSETFROM:-0500
TZOFFSETTO:-0400
TZNAME:EDT
DTSTART:20260308T070000
END:DAYLIGHT
BEGIN:STANDARD
TZOFFSETFROM:-0400
TZOFFSETTO:-0500
TZNAME:EST
DTSTART:20261101T060000
END:STANDARD
END:VTIMEZONE
BEGIN:VEVENT
DTSTART;TZID=America/New_York:20251225T150000
DTEND;TZID=America/New_York:20251225T150000
DTSTAMP:20260424T200156
CREATED:20251203T033143Z
LAST-MODIFIED:20251209T163854Z
UID:10000025-1766674800-1766674800@eatlikealocal.com
SUMMARY:Tzeva Christmas Dinner
DESCRIPTION:This Christmas\, our table will be set with bold colors and festive flavors. It’s tradition with a vibrant and artful culinary twist. \nCOURSE ONE / choice of \n\nKey West Pink Shrimp & Béchamel Croquettes\nLobster & Kabocha Bisque\nHouse-Made Spiced Lamb Sausage\n\nCOURSE TWO / choice of  \n\nKoji-Marinated Smoked Duck Breast\nSpeck-Wrapped Monksh Medallions\nHerb-Encrusted Prime Rib\n\nCOURSE THREE / choice of  \n\nPeppermint Crème Brûlée\nMini Winter Spice Pumpkin Pie\n\n$75 Per Guest \n(exclusive of tax and gratuity) \nBOOK YOUR RESERVATION HERE
URL:https://eatlikealocal.com/event/tzeva-christmas-dinner/
LOCATION:Tzeva\, 1255 N Palm Ave\, Sarasota\, FL\, 34236
CATEGORIES:Dinner Event,Holiday Event
ATTACH;FMTTYPE=image/jpeg:https://eatlikealocal.com/wp-content/uploads/2025/12/tzeva-christmas-day.jpg
END:VEVENT
END:VCALENDAR