BEGIN:VCALENDAR
VERSION:2.0
PRODID:-//Sarasota Manatee Originals - ECPv6.15.20//NONSGML v1.0//EN
CALSCALE:GREGORIAN
METHOD:PUBLISH
X-WR-CALNAME:Sarasota Manatee Originals
X-ORIGINAL-URL:https://eatlikealocal.com
X-WR-CALDESC:Events for Sarasota Manatee Originals
REFRESH-INTERVAL;VALUE=DURATION:PT1H
X-Robots-Tag:noindex
X-PUBLISHED-TTL:PT1H
BEGIN:VTIMEZONE
TZID:America/New_York
BEGIN:DAYLIGHT
TZOFFSETFROM:-0500
TZOFFSETTO:-0400
TZNAME:EDT
DTSTART:20250309T070000
END:DAYLIGHT
BEGIN:STANDARD
TZOFFSETFROM:-0400
TZOFFSETTO:-0500
TZNAME:EST
DTSTART:20251102T060000
END:STANDARD
BEGIN:DAYLIGHT
TZOFFSETFROM:-0500
TZOFFSETTO:-0400
TZNAME:EDT
DTSTART:20260308T070000
END:DAYLIGHT
BEGIN:STANDARD
TZOFFSETFROM:-0400
TZOFFSETTO:-0500
TZNAME:EST
DTSTART:20261101T060000
END:STANDARD
BEGIN:DAYLIGHT
TZOFFSETFROM:-0500
TZOFFSETTO:-0400
TZNAME:EDT
DTSTART:20270314T070000
END:DAYLIGHT
BEGIN:STANDARD
TZOFFSETFROM:-0400
TZOFFSETTO:-0500
TZNAME:EST
DTSTART:20271107T060000
END:STANDARD
END:VTIMEZONE
BEGIN:VEVENT
DTSTART;TZID=America/New_York:20260101T110000
DTEND;TZID=America/New_York:20260101T140000
DTSTAMP:20260424T173233
CREATED:20251209T164637Z
LAST-MODIFIED:20251209T164637Z
UID:10000048-1767265200-1767276000@eatlikealocal.com
SUMMARY:Tzeva New Year's Day Jazz Brunch Buffet
DESCRIPTION:Start 2026 on a smooth note! Ring in the new year with a soulful dining experience that transports you straight to the heart of New Orleans!  Enjoy a live performance from the Alex Ross Jazz Trio and a chef-crafted buffet bursting with bold\, artful flavor. \nMENU HIGHLIGHTS \n\nAcadian Crawfish Étouffée\nRed Beans & Rice\nAlligator Bites\nOysters Bienville\nCrisp Romaine Salad\nMardi Gras Salad\nNOLA-Style BBQ Shrimp & Grits\nEggs Sardou\nPecan-Encrusted Redfish\nRoast Beef Debris\nCajun Fried Chicken & Waffles\nCorn Bread Pudding\nBananas Foster King Cake\nPlus\, festive drink specials to keep the party going!\n\n$69 Per Guest\n(exclusive of tax and gratuity) \nBOOK YOUR RESERVATION HERE
URL:https://eatlikealocal.com/event/tzeva-new-years-day-jazz-brunch-buffet/
LOCATION:Tzeva\, 1255 N Palm Ave\, Sarasota\, FL\, 34236
CATEGORIES:Brunch,Holiday Event
ATTACH;FMTTYPE=image/jpeg:https://eatlikealocal.com/wp-content/uploads/2025/12/tzeva-nye-event.jpg
END:VEVENT
BEGIN:VEVENT
DTSTART;TZID=America/New_York:20260123T180000
DTEND;TZID=America/New_York:20260123T210000
DTSTAMP:20260424T173233
CREATED:20260104T141312Z
LAST-MODIFIED:20260104T141312Z
UID:10000065-1769191200-1769202000@eatlikealocal.com
SUMMARY:Forks & Corks Winemaker Dinner | Tzeva & Castello Banfi
DESCRIPTION:Join Us for the Four-Course Banfi Wine Dinner!\nGet ready to indulge in an amazing evening of delicious food paired perfectly with exquisite Banfi wines. This in-person event is all about savoring each course while exploring the rich flavors of Banfi vineyards. Whether you’re a wine newbie or a seasoned enthusiast\, this dinner promises good vibes\, great company\, and unforgettable tastes. Don’t miss out! \nTicket total $156.11 is all inclusive of fees\, tax and includes 20% Gratuity \n \n  \nBOOK YOUR RESERVATION HERE
URL:https://eatlikealocal.com/event/forks-corks-winemaker-dinner-tzeva-castello-banfi/
LOCATION:Tzeva\, 1255 N Palm Ave\, Sarasota\, FL\, 34236
CATEGORIES:Dinner Event,Forks & Corks,Wine Event
ATTACH;FMTTYPE=image/jpeg:https://eatlikealocal.com/wp-content/uploads/2025/12/TZEVA-WMD.jpg
END:VEVENT
END:VCALENDAR