BEGIN:VCALENDAR
VERSION:2.0
PRODID:-//Sarasota Manatee Originals - ECPv6.15.20//NONSGML v1.0//EN
CALSCALE:GREGORIAN
METHOD:PUBLISH
X-ORIGINAL-URL:https://eatlikealocal.com
X-WR-CALDESC:Events for Sarasota Manatee Originals
REFRESH-INTERVAL;VALUE=DURATION:PT1H
X-Robots-Tag:noindex
X-PUBLISHED-TTL:PT1H
BEGIN:VTIMEZONE
TZID:America/New_York
BEGIN:DAYLIGHT
TZOFFSETFROM:-0500
TZOFFSETTO:-0400
TZNAME:EDT
DTSTART:20250309T070000
END:DAYLIGHT
BEGIN:STANDARD
TZOFFSETFROM:-0400
TZOFFSETTO:-0500
TZNAME:EST
DTSTART:20251102T060000
END:STANDARD
BEGIN:DAYLIGHT
TZOFFSETFROM:-0500
TZOFFSETTO:-0400
TZNAME:EDT
DTSTART:20260308T070000
END:DAYLIGHT
BEGIN:STANDARD
TZOFFSETFROM:-0400
TZOFFSETTO:-0500
TZNAME:EST
DTSTART:20261101T060000
END:STANDARD
BEGIN:DAYLIGHT
TZOFFSETFROM:-0500
TZOFFSETTO:-0400
TZNAME:EDT
DTSTART:20270314T070000
END:DAYLIGHT
BEGIN:STANDARD
TZOFFSETFROM:-0400
TZOFFSETTO:-0500
TZNAME:EST
DTSTART:20271107T060000
END:STANDARD
END:VTIMEZONE
BEGIN:VEVENT
DTSTART;TZID=America/New_York:20260120T180000
DTEND;TZID=America/New_York:20260120T210000
DTSTAMP:20260424T160519
CREATED:20251218T160300Z
LAST-MODIFIED:20260116T010136Z
UID:10000058-1768932000-1768942800@eatlikealocal.com
SUMMARY:Pineapple To Plate
DESCRIPTION:[vc_row type=”in_container” full_screen_row_position=”middle” column_margin=”default” column_direction=”default” column_direction_tablet=”default” column_direction_phone=”default” scene_position=”center” text_color=”dark” text_align=”left” row_border_radius=”none” row_border_radius_applies=”bg” row_position_desktop=”default” row_position_tablet=”inherit” row_position_phone=”inherit” overflow=”visible” overlay_strength=”0.3″ gradient_direction=”left_to_right” shape_divider_position=”bottom” bg_image_animation=”none”][vc_column column_padding=”no-extra-padding” column_padding_tablet=”inherit” column_padding_phone=”inherit” column_padding_position=”all” flex_gap_desktop=”10px” column_element_direction_desktop=”default” column_element_spacing=”default” desktop_text_alignment=”default” tablet_text_alignment=”default” phone_text_alignment=”default” background_color_opacity=”1″ background_hover_color_opacity=”1″ column_backdrop_filter=”none” column_shadow=”none” column_border_radius=”none” column_link_target=”_self” column_position=”default” gradient_direction=”left_to_right” overlay_strength=”0.3″ width=”1/1″ tablet_width_inherit=”default” animation_type=”default” bg_image_animation=”none” border_type=”simple” column_border_width=”none” column_border_style=”solid”][vc_column_text css=”” text_direction=”default”]\nTHIS EVENT IS SOLD OUT\nPineapple to Plate: 5 Chefs – 5 Courses – 5 Points Park\nBringing together 5 chefs for 5 courses from the Suncoast’s most celebrated kitchens…an evening to remember in the heart of downtown SRQ. \nBuzzed & Social proudly presents Pineapple to Plate\, an inaugural long table dinner hosted by The Scout Guide Sarasota\, Anna Maria to Boca Grande\, in support of Sarasota-Manatee Originals’ Annual Forks & Corks celebration. \nSet beneath the stars in the heart of downtown Sarasota\, Five Points Park will transform into an intimate open-air dining room\, bringing together five chefs from the Suncoast’s most celebrated kitchens\, for an evening to remember. \nGuests will enjoy a thoughtfully-curated\, five-course dinner prepared by the culinary teams of Sage\, Michael’s On East\, Hanami & Tsunami\, 1592 Wood Fired Kitchen & Cocktails\, Pop’s Sunset Grill\, and Simply Gourmet by Metz\, with each course perfectly paired with Hartford Court Wines from the acclaimed Jackson Family Wines portfolio. \nDesigned as an elevated\, yet convivial\, sidewalk dining experience\, Pineapple to Plate celebrates Sarasota’s vibrant culinary community while embracing the spirit\, craftsmanship\, and connection that defines Forks & Corks week. \nMENU:\n1st: Hartford Court Chardonnay – 1592 Wood Fired Kitchen & Cocktails\nTrio Plate\, Baba Ghanoush\, Spicy Feta\, Smoked Fish Dip\, Baked Pita \n2nd: Hartford Court Rosé – Hanami & Tsunami Sushi & Hibachi\nTorched Terra Market Farm Wagyu Nigiri with Signature Ceviché\, King Crab\, Kani\, Tomato\, Mango\, Cilantro\, Cucumber \, Avocado \n3rd: Hartford Court Pinot Noir- Simply Gourmet by Metz\nTruffled Lobster and Shrimp Bisque\, Parmesan Crostini \n4th: Hartford Red Zinfandel – Michael’s on East\nBraised Short Rib\, Gruyère Scalloped Potato Stack\, Glazed Carrots \n5th: Sea Salt Stonestreet Bourbon Manhattan\, Dessert Sage\nTriple Nut Tart \nWant to keep the party going? Join us at 99 Bottles & Taproom right around the corner at: 1445 2nd St\, Sarasota \nTo ensure you sit with your group\, please have one member of your party purchase your tickets for the entire group. Seating will be assigned by order received. Contact Nikkilogan@thescoutguide with questions. \n[/vc_column_text][/vc_column][/vc_row]
URL:https://eatlikealocal.com/event/pineapple-to-plate/
LOCATION:Aleur\, 1001 Central Avenue\, Sarasota\, FL\, 34236
CATEGORIES:Dinner Event,Forks & Corks
ATTACH;FMTTYPE=image/jpeg:https://eatlikealocal.com/wp-content/uploads/2026/01/pineapple-to-plate-sold-out.jpg
END:VEVENT
BEGIN:VEVENT
DTSTART;TZID=America/New_York:20260122T183000
DTEND;TZID=America/New_York:20260122T213000
DTSTAMP:20260424T160519
CREATED:20251219T142057Z
LAST-MODIFIED:20260120T011953Z
UID:10000059-1769106600-1769117400@eatlikealocal.com
SUMMARY:Forks & Corks Winemaker Dinner | Sage + RIISE
DESCRIPTION:[vc_row type=”in_container” full_screen_row_position=”middle” column_margin=”default” column_direction=”default” column_direction_tablet=”default” column_direction_phone=”default” scene_position=”center” text_color=”dark” text_align=”left” row_border_radius=”none” row_border_radius_applies=”bg” row_position_desktop=”default” row_position_tablet=”inherit” row_position_phone=”inherit” overflow=”visible” overlay_strength=”0.3″ gradient_direction=”left_to_right” shape_divider_position=”bottom” bg_image_animation=”none”][vc_column column_padding=”no-extra-padding” column_padding_tablet=”inherit” column_padding_phone=”inherit” column_padding_position=”all” flex_gap_desktop=”10px” column_element_direction_desktop=”default” column_element_spacing=”default” desktop_text_alignment=”default” tablet_text_alignment=”default” phone_text_alignment=”default” background_color_opacity=”1″ background_hover_color_opacity=”1″ column_backdrop_filter=”none” column_shadow=”none” column_border_radius=”none” column_link_target=”_self” column_position=”default” gradient_direction=”left_to_right” overlay_strength=”0.3″ width=”1/1″ tablet_width_inherit=”default” animation_type=”default” bg_image_animation=”none” border_type=”simple” column_border_width=”none” column_border_style=”solid”][vc_column_text css=”” text_direction=”default”]\n\n\nTHIS EVENT IS SOLD OUT\nJoin us at Sage for a rare and intimate dining experience featuring one of the most compelling figures in American wine: Juan Mercado. \nBest known as the founder of Napa Valley’s legendary Realm Cellars\, Juan spent two decades crafting some of the world’s most sought-after Cabernet Sauvignons. In 2019\, he shocked the wine world by leaving it all behind to pursue a new “second act” in the limestone-rich hills of Paso Robles. The result is Riise Wine—a project dedicated to the “savage elegance” of Rhône varietals\, crafted with the same obsessive standards that made Realm a global icon. \nJuan will be joining us personally to share the stories behind his journey and pour his highly allocated new releases—Peace\, Doyen\, and Jovian—alongside an inspired\, multi-course tasting menu curated by Executive Chef Chris Covelli and the Sage culinary team. This is more than a wine dinner; it is a conversation about risk\, reinvention\, and the pursuit of excellence. Seating is extremely limited for this exclusive engagement. \n\n\n[/vc_column_text][/vc_column][/vc_row]
URL:https://eatlikealocal.com/event/forks-corks-winemaker-dinner-sage-riise/
LOCATION:Sage\, 1216 1st St\, Sarasota\, FL\, 34236\, United States
CATEGORIES:Dinner Event,Forks & Corks,Wine Event
ATTACH;FMTTYPE=image/jpeg:https://eatlikealocal.com/wp-content/uploads/2026/01/SAGE-sold-out.jpg
END:VEVENT
END:VCALENDAR