BEGIN:VCALENDAR
VERSION:2.0
PRODID:-//Sarasota Manatee Originals - ECPv6.15.20//NONSGML v1.0//EN
CALSCALE:GREGORIAN
METHOD:PUBLISH
X-WR-CALNAME:Sarasota Manatee Originals
X-ORIGINAL-URL:https://eatlikealocal.com
X-WR-CALDESC:Events for Sarasota Manatee Originals
REFRESH-INTERVAL;VALUE=DURATION:PT1H
X-Robots-Tag:noindex
X-PUBLISHED-TTL:PT1H
BEGIN:VTIMEZONE
TZID:America/New_York
BEGIN:DAYLIGHT
TZOFFSETFROM:-0500
TZOFFSETTO:-0400
TZNAME:EDT
DTSTART:20240310T070000
END:DAYLIGHT
BEGIN:STANDARD
TZOFFSETFROM:-0400
TZOFFSETTO:-0500
TZNAME:EST
DTSTART:20241103T060000
END:STANDARD
BEGIN:DAYLIGHT
TZOFFSETFROM:-0500
TZOFFSETTO:-0400
TZNAME:EDT
DTSTART:20250309T070000
END:DAYLIGHT
BEGIN:STANDARD
TZOFFSETFROM:-0400
TZOFFSETTO:-0500
TZNAME:EST
DTSTART:20251102T060000
END:STANDARD
BEGIN:DAYLIGHT
TZOFFSETFROM:-0500
TZOFFSETTO:-0400
TZNAME:EDT
DTSTART:20260308T070000
END:DAYLIGHT
BEGIN:STANDARD
TZOFFSETFROM:-0400
TZOFFSETTO:-0500
TZNAME:EST
DTSTART:20261101T060000
END:STANDARD
END:VTIMEZONE
BEGIN:VEVENT
DTSTART;TZID=America/New_York:20251211T190000
DTEND;TZID=America/New_York:20251211T190000
DTSTAMP:20260424T173135
CREATED:20251203T064958Z
LAST-MODIFIED:20251203T080326Z
UID:10000045-1765479600-1765479600@eatlikealocal.com
SUMMARY:A Night in Abruzzo: The Collefrisio Wine Dinner at Sage
DESCRIPTION:A Night in Abruzzo: The Collefrisio Wine Dinner @collefrisiowines \n🗓️ Date: December 11\n⌚️Time: 7 PM\n💵 Price: $145 per person\n🎟️ Tickets: https://www.opentable.com/r/sage-srq-sarasota\n🎥 Watch Chef’s Reel \nJoin us at Sage Restaurant for an exceptional five-course culinary journey\, perfectly paired with the organically farmed\, critically acclaimed wines of Collefrisio from Italy’s stunning Abruzzo region. Collefrisio is known for crafting elegant\, modern\, and food-friendly wines that beautifully express their unique terroir. \nExecutive Chef Christopher Covelli has created a one-night-only five-course menu designed to highlight the structure\, freshness\, and rich fruit notes of the Collefrisio portfolio. This exclusive evening offers a fully immersive\, all-inclusive experience for wine lovers and discerning food enthusiasts. \nReserve your seat for an unforgettable taste of authentic Italian excellence.
URL:https://eatlikealocal.com/event/sage-collefrisio-wine-dinner/
LOCATION:Sage\, 1216 1st St\, Sarasota\, FL\, 34236\, United States
CATEGORIES:Wine Event
ATTACH;FMTTYPE=image/jpeg:https://eatlikealocal.com/wp-content/uploads/2025/12/Untitled-design-15.jpg
END:VEVENT
END:VCALENDAR