BEGIN:VCALENDAR
VERSION:2.0
PRODID:-//Sarasota Manatee Originals - ECPv6.15.20//NONSGML v1.0//EN
CALSCALE:GREGORIAN
METHOD:PUBLISH
X-WR-CALNAME:Sarasota Manatee Originals
X-ORIGINAL-URL:https://eatlikealocal.com
X-WR-CALDESC:Events for Sarasota Manatee Originals
REFRESH-INTERVAL;VALUE=DURATION:PT1H
X-Robots-Tag:noindex
X-PUBLISHED-TTL:PT1H
BEGIN:VTIMEZONE
TZID:America/New_York
BEGIN:DAYLIGHT
TZOFFSETFROM:-0500
TZOFFSETTO:-0400
TZNAME:EDT
DTSTART:20250309T070000
END:DAYLIGHT
BEGIN:STANDARD
TZOFFSETFROM:-0400
TZOFFSETTO:-0500
TZNAME:EST
DTSTART:20251102T060000
END:STANDARD
BEGIN:DAYLIGHT
TZOFFSETFROM:-0500
TZOFFSETTO:-0400
TZNAME:EDT
DTSTART:20260308T070000
END:DAYLIGHT
BEGIN:STANDARD
TZOFFSETFROM:-0400
TZOFFSETTO:-0500
TZNAME:EST
DTSTART:20261101T060000
END:STANDARD
BEGIN:DAYLIGHT
TZOFFSETFROM:-0500
TZOFFSETTO:-0400
TZNAME:EDT
DTSTART:20270314T070000
END:DAYLIGHT
BEGIN:STANDARD
TZOFFSETFROM:-0400
TZOFFSETTO:-0500
TZNAME:EST
DTSTART:20271107T060000
END:STANDARD
END:VTIMEZONE
BEGIN:VEVENT
DTSTART;TZID=America/New_York:20260123T183000
DTEND;TZID=America/New_York:20260123T203000
DTSTAMP:20260424T184719
CREATED:20251203T062126Z
LAST-MODIFIED:20260117T210002Z
UID:10000028-1769193000-1769200200@eatlikealocal.com
SUMMARY:Forks & Corks Winemaker Dinner | Miguel's + Babylonstoren
DESCRIPTION:[vc_row type=”in_container” full_screen_row_position=”middle” column_margin=”default” column_direction=”default” column_direction_tablet=”default” column_direction_phone=”default” scene_position=”center” text_color=”dark” text_align=”left” row_border_radius=”none” row_border_radius_applies=”bg” row_position_desktop=”default” row_position_tablet=”inherit” row_position_phone=”inherit” overflow=”visible” overlay_strength=”0.3″ gradient_direction=”left_to_right” shape_divider_position=”bottom” bg_image_animation=”none”][vc_column column_padding=”no-extra-padding” column_padding_tablet=”inherit” column_padding_phone=”inherit” column_padding_position=”all” flex_gap_desktop=”10px” column_element_direction_desktop=”default” column_element_spacing=”default” desktop_text_alignment=”default” tablet_text_alignment=”default” phone_text_alignment=”default” background_color_opacity=”1″ background_hover_color_opacity=”1″ column_backdrop_filter=”none” column_shadow=”none” column_border_radius=”none” column_link_target=”_self” column_position=”default” gradient_direction=”left_to_right” overlay_strength=”0.3″ width=”1/1″ tablet_width_inherit=”default” animation_type=”default” bg_image_animation=”none” border_type=”simple” column_border_width=”none” column_border_style=”solid”][vc_column_text css=”” text_direction=”default”]\nTHIS EVENT IS SOLD OUT\nFirst Course / Sprankle\nGruyere and Crab Croquettes\, Chipotle Aloi\, Grilled Corn and Cilantro Salsa\, Fresh Dill \nSecond Course / Babel Red Blend\nInspired Plum Salad from the Indigenous restaurant Sarasota (Phelps\, 2025) \nThird Course / Shiraz\nVeal Roulade\, Crab and Leek stuffed\, Capicola and Basil Butter sauce\, Some kind of vegetable\, Garnished Thai Basil \nFourth Course / Cabernet Sauvignon\nBacon Wrapped Filet Mignon\, Miso and Portobello Cream Sauce\, Roasted Patty Pan Squash\, White Truffle French Fries. \nFifth Course / Sparkling Chenin Blanc\nReese’s Peanut Butter\, Guava\, and Banana Tartlet\, House-made Banana Ice Cream\, Chantilly cream\, Almond Lace cookies.[/vc_column_text][/vc_column][/vc_row]
URL:https://eatlikealocal.com/event/forks-corks-winemaker-dinner-miguels-babylonstoren/
LOCATION:Miguel’s\, 6631 Midnight Pass Road\, Sarasota\, FL\, 34242\, United States
CATEGORIES:Dinner Event,Forks & Corks,Wine Event
ATTACH;FMTTYPE=image/jpeg:https://eatlikealocal.com/wp-content/uploads/2026/01/miguels-sold-out.jpg
END:VEVENT
END:VCALENDAR