BEGIN:VCALENDAR
VERSION:2.0
PRODID:-//Sarasota Manatee Originals - ECPv6.15.20//NONSGML v1.0//EN
CALSCALE:GREGORIAN
METHOD:PUBLISH
X-ORIGINAL-URL:https://eatlikealocal.com
X-WR-CALDESC:Events for Sarasota Manatee Originals
REFRESH-INTERVAL;VALUE=DURATION:PT1H
X-Robots-Tag:noindex
X-PUBLISHED-TTL:PT1H
BEGIN:VTIMEZONE
TZID:America/New_York
BEGIN:DAYLIGHT
TZOFFSETFROM:-0500
TZOFFSETTO:-0400
TZNAME:EDT
DTSTART:20250309T070000
END:DAYLIGHT
BEGIN:STANDARD
TZOFFSETFROM:-0400
TZOFFSETTO:-0500
TZNAME:EST
DTSTART:20251102T060000
END:STANDARD
BEGIN:DAYLIGHT
TZOFFSETFROM:-0500
TZOFFSETTO:-0400
TZNAME:EDT
DTSTART:20260308T070000
END:DAYLIGHT
BEGIN:STANDARD
TZOFFSETFROM:-0400
TZOFFSETTO:-0500
TZNAME:EST
DTSTART:20261101T060000
END:STANDARD
BEGIN:DAYLIGHT
TZOFFSETFROM:-0500
TZOFFSETTO:-0400
TZNAME:EDT
DTSTART:20270314T070000
END:DAYLIGHT
BEGIN:STANDARD
TZOFFSETFROM:-0400
TZOFFSETTO:-0500
TZNAME:EST
DTSTART:20271107T060000
END:STANDARD
END:VTIMEZONE
BEGIN:VEVENT
DTSTART;TZID=America/New_York:20260123T183000
DTEND;TZID=America/New_York:20260123T213000
DTSTAMP:20260424T122651
CREATED:20251211T200026Z
LAST-MODIFIED:20260120T011822Z
UID:10000053-1769193000-1769203800@eatlikealocal.com
SUMMARY:Forks & Corks Winemaker Dinner | Arts & Central + Château de La Dauphine
DESCRIPTION:[vc_row type=”in_container” full_screen_row_position=”middle” column_margin=”default” column_direction=”default” column_direction_tablet=”default” column_direction_phone=”default” scene_position=”center” text_color=”dark” text_align=”left” row_border_radius=”none” row_border_radius_applies=”bg” row_position_desktop=”default” row_position_tablet=”inherit” row_position_phone=”inherit” overflow=”visible” overlay_strength=”0.3″ gradient_direction=”left_to_right” shape_divider_position=”bottom” bg_image_animation=”none”][vc_column column_padding=”no-extra-padding” column_padding_tablet=”inherit” column_padding_phone=”inherit” column_padding_position=”all” flex_gap_desktop=”10px” column_element_direction_desktop=”default” column_element_spacing=”default” desktop_text_alignment=”default” tablet_text_alignment=”default” phone_text_alignment=”default” background_color_opacity=”1″ background_hover_color_opacity=”1″ column_backdrop_filter=”none” column_shadow=”none” column_border_radius=”none” column_link_target=”_self” column_position=”default” gradient_direction=”left_to_right” overlay_strength=”0.3″ width=”1/1″ tablet_width_inherit=”default” animation_type=”default” bg_image_animation=”none” border_type=”simple” column_border_width=”none” column_border_style=”solid”][vc_column_text css=”” text_direction=”default”]\n\nTHIS EVENT IS SOLD OUT\nJoin us for an evening of elegance: a curated tasting dinner showcasing Château de La Dauphine’s finest expressions.\n\n\n\nCome join us for a delightful evening at Arts & Central for our Winemaker Dinner event featuring Château de La Dauphine! A refined four-course tasting journey celebrating the harmony between seasonal cuisine and the elegance of Château de La Dauphine. Each course is thoughtfully crafted to highlight the depth\, balance\, and character of the estate’s wines\, guiding guests through a progression of flavors—from delicate beginnings to a rich\, memorable finale \nCourse 1: Rosé de La Dauphine \nCourse 2: Château de La Dauphine 2019 \nCourse 3: Château de La Dauphine 2016 \nCourse 4: Château de La Dauphine 2012 \n\n\n[/vc_column_text][/vc_column][/vc_row]
URL:https://eatlikealocal.com/event/forks-corks-winemaker-dinner-arts-central-chateau-de-la-dauphine/
LOCATION:Arts & Central\, 611 Central Avenue\, Sarasota\, FL\, 34236\, United States
CATEGORIES:Dinner Event,Forks & Corks,Wine Event
ATTACH;FMTTYPE=image/jpeg:https://eatlikealocal.com/wp-content/uploads/2026/01/arts-sold-out.jpg
END:VEVENT
END:VCALENDAR