BEGIN:VCALENDAR
VERSION:2.0
PRODID:-//Sarasota Manatee Originals - ECPv6.15.20//NONSGML v1.0//EN
CALSCALE:GREGORIAN
METHOD:PUBLISH
X-WR-CALNAME:Sarasota Manatee Originals
X-ORIGINAL-URL:https://eatlikealocal.com
X-WR-CALDESC:Events for Sarasota Manatee Originals
REFRESH-INTERVAL;VALUE=DURATION:PT1H
X-Robots-Tag:noindex
X-PUBLISHED-TTL:PT1H
BEGIN:VTIMEZONE
TZID:America/New_York
BEGIN:DAYLIGHT
TZOFFSETFROM:-0500
TZOFFSETTO:-0400
TZNAME:EDT
DTSTART:20250309T070000
END:DAYLIGHT
BEGIN:STANDARD
TZOFFSETFROM:-0400
TZOFFSETTO:-0500
TZNAME:EST
DTSTART:20251102T060000
END:STANDARD
BEGIN:DAYLIGHT
TZOFFSETFROM:-0500
TZOFFSETTO:-0400
TZNAME:EDT
DTSTART:20260308T070000
END:DAYLIGHT
BEGIN:STANDARD
TZOFFSETFROM:-0400
TZOFFSETTO:-0500
TZNAME:EST
DTSTART:20261101T060000
END:STANDARD
BEGIN:DAYLIGHT
TZOFFSETFROM:-0500
TZOFFSETTO:-0400
TZNAME:EDT
DTSTART:20270314T070000
END:DAYLIGHT
BEGIN:STANDARD
TZOFFSETFROM:-0400
TZOFFSETTO:-0500
TZNAME:EST
DTSTART:20271107T060000
END:STANDARD
END:VTIMEZONE
BEGIN:VEVENT
DTSTART;TZID=America/New_York:20260423T173000
DTEND;TZID=America/New_York:20260423T203000
DTSTAMP:20260424T122422
CREATED:20260218T201737Z
LAST-MODIFIED:20260218T201828Z
UID:10000085-1776965400-1776976200@eatlikealocal.com
SUMMARY:Harry's Continental Kitchen / Rosé Soirée
DESCRIPTION:Join us for the second annual Rosé Soirée — an evening designed to welcome spring in true Harry’s style. \nSet against the warm glow of a Gulf Coast sunset\, this garden-party inspired gathering features more than 30 curated wines (with a lot of rosé love!) to taste\, interactive experiences throughout the evening\, and entertainment that sets the tone for a relaxed\, coastal celebration. \nIt’s more than a wine tasting. It’s a chance to gather\, reconnect\, and raise a glass to the season ahead. Expect light bites\, flowing rosé\, hands-on moments\, and the unmistakable hospitality that has made Harry’s a local tradition. Garden party spirit. Gulf Coast sunset. Rosé in hand. \nWe can’t wait to toast Spring with you. \nNeed to Know: This is a standing\, mix-and-mingle style event designed for tasting and socializing. Tickets are non-refundable and non-transferable. This event is 21+ only. Please drink responsibly. We can’t wait to toast spring with you. \n\nRESERVE YOUR TICKET\n\n 
URL:https://eatlikealocal.com/event/harrys-continental-kitchen-rose-soiree/
LOCATION:Harry’s Kitchen\, 525 Saint Judes Drive\, Longboat Key\, FL\, 34228
CATEGORIES:Wine Event
ATTACH;FMTTYPE=image/jpeg:https://eatlikealocal.com/wp-content/uploads/2026/02/april-23-•-530-830p-Presentation.jpg
END:VEVENT
BEGIN:VEVENT
DTSTART;TZID=America/New_York:20260423T180000
DTEND;TZID=America/New_York:20260423T210000
DTSTAMP:20260424T122422
CREATED:20260407T114918Z
LAST-MODIFIED:20260407T114918Z
UID:10000514-1776967200-1776978000@eatlikealocal.com
SUMMARY:Figaro Bistro / Spring in Provence Wine Dinner
DESCRIPTION:[vc_row type=”in_container” full_screen_row_position=”middle” column_margin=”default” column_direction=”default” column_direction_tablet=”default” column_direction_phone=”default” scene_position=”center” text_color=”dark” text_align=”left” row_border_radius=”none” row_border_radius_applies=”bg” row_position_desktop=”default” row_position_tablet=”inherit” row_position_phone=”inherit” overflow=”visible” overlay_strength=”0.3″ gradient_direction=”left_to_right” shape_divider_position=”bottom” bg_image_animation=”none”][vc_column column_padding=”no-extra-padding” column_padding_tablet=”inherit” column_padding_phone=”inherit” column_padding_position=”all” flex_gap_desktop=”10px” column_element_direction_desktop=”default” column_element_spacing=”default” desktop_text_alignment=”default” tablet_text_alignment=”default” phone_text_alignment=”default” background_color_opacity=”1″ background_hover_color_opacity=”1″ column_backdrop_filter=”none” column_shadow=”none” column_border_radius=”none” column_link_target=”_self” column_position=”default” gradient_direction=”left_to_right” overlay_strength=”0.3″ width=”1/1″ tablet_width_inherit=”default” animation_type=”default” bg_image_animation=”none” border_type=”simple” column_border_width=”none” column_border_style=”solid”][vc_column_text css=”” text_direction=”default”]\nStep into the springtime sunlit charm of the French countryside with our “Spring in Provence\, France” 4-Course Wine Dinner.\nThis special evening is inspired by the fresh\, vibrant spirit of Provence\, France in bloom where each course captures the essence of the season. Think delicate flavors\, fragrant herbs\, and beautifully balanced dishes that celebrate spring at its peak. From Scallops to Rack of Lamb\, this wine dinner is French chef-curated with all the artful attention included to make this event magnifique! \nEach course is thoughtfully paired with wines selected to complement and elevate every bite\, creating a seamless journey from the first sip to the final course. Expect bright whites\, elegant rosés\, and refined reds that echo the terroir of southern France. \nThe atmosphere is intimate\, warm\, and transportive. Soft conversation\, the glow of candlelight\, and the feeling of dining somewhere far from home yet perfectly at ease. We’ll be lead through the countryside by wine expert Colby Hagen as he takes us through springtime in the South of France. Think lavender fields\, the Mediterranean Sea\, and bordering Italy. It is more than a dinner. It is an experience of season\, place\, and pleasure. Join us for an evening in Provence\, France without ever leaving Sarasota. \nMAKE YOUR RESERVATION\n[/vc_column_text][/vc_column][/vc_row]
URL:https://eatlikealocal.com/event/figaro-bistro-spring-in-provence-wine-dinner/
LOCATION:Figaro Bistro & Wine Bar\, 1944 Hillview Street\, Sarasota\, FL\, 34239
CATEGORIES:Wine Dinner
ATTACH;FMTTYPE=image/jpeg:https://eatlikealocal.com/wp-content/uploads/2026/04/figaro-spring-lamb.jpg
END:VEVENT
END:VCALENDAR